BEGIN:VCALENDAR
VERSION:2.0
PRODID:-//TEÉRTED Baptista Gyülekezet - ECPv5.9.2//NONSGML v1.0//EN
CALSCALE:GREGORIAN
METHOD:PUBLISH
X-WR-CALNAME:TEÉRTED Baptista Gyülekezet
X-ORIGINAL-URL:http://teerted.hu
X-WR-CALDESC:Events for TEÉRTED Baptista Gyülekezet
BEGIN:VTIMEZONE
TZID:Europe/Helsinki
BEGIN:DAYLIGHT
TZOFFSETFROM:+0200
TZOFFSETTO:+0300
TZNAME:EEST
DTSTART:20190331T010000
END:DAYLIGHT
BEGIN:STANDARD
TZOFFSETFROM:+0300
TZOFFSETTO:+0200
TZNAME:EET
DTSTART:20191027T010000
END:STANDARD
END:VTIMEZONE
BEGIN:VEVENT
DTSTART;TZID=Europe/Helsinki:20191108T190000
DTEND;TZID=Europe/Helsinki:20191108T220000
DTSTAMP:20260423T055903
CREATED:20191019T155816Z
LAST-MODIFIED:20191019T155929Z
UID:5256-1573239600-1573250400@teerted.hu
SUMMARY:TEÉRTED / WOL Élet Szava IFI
DESCRIPTION:A TEÉRTED és a WOL Élet Szava  közös ifije\, minden 12 év felettinek \nMinden pénteken várunk titeket egy jó kis kajálós-játékos-bibliás együttlétre. \nHelyszín: Gergelyéknél (Arany J. u. 74/a) \nAlkalmak időpontjai IDE KATTINTVA! \nCsekkoljátok a / fb oldalt / instát meg a messengert 🙂\nwww.facebook.com/teertedmisszio\nwww.instagram.com/teerted \nIfivezetők: Tanner Graham  (WOL Élet Szava) – https://www.esztabor.org/eszifi \nÉrdeklődni lehet még a kapcsolatban megadott elérhetőségeken. \nNyári szünetben keress minket a TÁBORUNKban!
URL:http://teerted.hu/esemeny/teerted-wol-elet-szava-ifi-2019-11-08/
LOCATION:Gergely család\, Arany János u. 74/a\, Dunaharaszti\, 2330\, Magyarország
CATEGORIES:Események,ifi
ATTACH;FMTTYPE=image/jpeg:http://teerted.hu/wp-content/uploads/2016/03/DSC_4532.jpg
ORGANIZER;CN="TE%C3%89RTED":MAILTO:teertedmisszio@gmail.com
END:VEVENT
END:VCALENDAR