BEGIN:VCALENDAR
VERSION:2.0
PRODID:-//TEÉRTED Baptista Gyülekezet - ECPv5.9.2//NONSGML v1.0//EN
CALSCALE:GREGORIAN
METHOD:PUBLISH
X-WR-CALNAME:TEÉRTED Baptista Gyülekezet
X-ORIGINAL-URL:http://teerted.hu
X-WR-CALDESC:Events for TEÉRTED Baptista Gyülekezet
BEGIN:VTIMEZONE
TZID:Europe/Helsinki
BEGIN:DAYLIGHT
TZOFFSETFROM:+0200
TZOFFSETTO:+0300
TZNAME:EEST
DTSTART:20190331T010000
END:DAYLIGHT
BEGIN:STANDARD
TZOFFSETFROM:+0300
TZOFFSETTO:+0200
TZNAME:EET
DTSTART:20191027T010000
END:STANDARD
END:VTIMEZONE
BEGIN:VEVENT
DTSTART;TZID=Europe/Helsinki:20191110T110000
DTEND;TZID=Europe/Helsinki:20191110T130000
DTSTAMP:20260423T074329
CREATED:20190531T133259Z
LAST-MODIFIED:20190531T133259Z
UID:5156-1573383600-1573390800@teerted.hu
SUMMARY:Istentisztelet
DESCRIPTION:Vasárnaponkénti interaktív istentiszteleteinket szeretnénk olyan kötetlen és vidám alkalommá tenni\, ahol a résztvevők bátran kérdezhetnek\, beszélgethetnek. Egy kellemes tea/kávé mellett gyülekezünk\, majd minden korosztály együtt van néhány istendicsőítő dal és ima erejéig\, ezután elengedjük a gyerekeket\, a gyerekfoglalkozásra. Az üzenet után közvetlen légkörben van lehetőség kérdezni\, válaszokat kapni kérdéseinkre\, imaszolgálatot kérni. \nIstentiszteletek ideje vasárnaponként 10:00 órától!\nHelyszíne: Dunaharaszti\, Kőrösi Csoma S. Ált. Isk. ebédlője (Dunaharaszti\, Eötvös u. 52.)
URL:http://teerted.hu/esemeny/istentisztelet-2019-11-10/
LOCATION:Dunaharaszti\, Kőrösi Csoma Sándor Általános iskola\, Eötvös u. 52.\, Dunaharaszti\, 2330\, Magyarország
CATEGORIES:Események,Istentiszteletek
ATTACH;FMTTYPE=image/jpeg:http://teerted.hu/wp-content/uploads/2017/08/13.jpg
ORGANIZER;CN="TE%C3%89RTED":MAILTO:teertedmisszio@gmail.com
END:VEVENT
END:VCALENDAR