BEGIN:VCALENDAR
VERSION:2.0
PRODID:-//TEÉRTED Baptista Gyülekezet - ECPv5.9.2//NONSGML v1.0//EN
CALSCALE:GREGORIAN
METHOD:PUBLISH
X-WR-CALNAME:TEÉRTED Baptista Gyülekezet
X-ORIGINAL-URL:http://teerted.hu
X-WR-CALDESC:Events for TEÉRTED Baptista Gyülekezet
BEGIN:VTIMEZONE
TZID:Europe/Helsinki
BEGIN:DAYLIGHT
TZOFFSETFROM:+0200
TZOFFSETTO:+0300
TZNAME:EEST
DTSTART:20190331T010000
END:DAYLIGHT
BEGIN:STANDARD
TZOFFSETFROM:+0300
TZOFFSETTO:+0200
TZNAME:EET
DTSTART:20191027T010000
END:STANDARD
END:VTIMEZONE
BEGIN:VEVENT
DTSTART;TZID=Europe/Helsinki:20191115T190000
DTEND;TZID=Europe/Helsinki:20191115T210000
DTSTAMP:20260423T093342
CREATED:20191019T155247Z
LAST-MODIFIED:20191019T155247Z
UID:5247-1573844400-1573851600@teerted.hu
SUMMARY:Házicsoportok
DESCRIPTION:Házi közösségekből álló gyülekezet vagyunk. Felnőtt házicsoportunkon kis létszámban\, kötetlen környezetben lehet beszélgetni\, egymást segíteni\, bátorítani\, egymásért imádkozni és kisebb csoporttevékenységben is betölteni a gyülekezet küldetését. \nJelenleg házicsoportjainkat péntekenként 6 órakor tartjuk.\nA csoportok váltott helyszíneken vannak. További infók:\nDeák Zoltán: 20/5877062 – deak.zoltan.tivadar@gmail.com\nMajerszky Tamás: 20/9529758 – majerszkytom@gmail.com \nIdőpontok eseménynaptárban megadott időpontokban. \nÉrdeklődni lehet még a kapcsolatban megadott elérhetőségeken.
URL:http://teerted.hu/esemeny/hazicsoportok-2019-11-15/
CATEGORIES:Események,Házicsoport,Házicsoportok
ATTACH;FMTTYPE=image/jpeg:http://teerted.hu/wp-content/uploads/2018/04/hcs.jpg
ORGANIZER;CN="TE%C3%89RTED":MAILTO:teertedmisszio@gmail.com
END:VEVENT
END:VCALENDAR